Package: msPurityData Version: 1.37.0 Command: /home/biocbuild/bbs-3.22-bioc/R/bin/R CMD build --keep-empty-dirs --no-resave-data msPurityData StartedAt: 2025-07-08 11:31:04 -0400 (Tue, 08 Jul 2025) EndedAt: 2025-07-08 11:33:30 -0400 (Tue, 08 Jul 2025) EllapsedTime: 145.8 seconds RetCode: 0 Status: OK PackageFile: msPurityData_1.37.0.tar.gz PackageFileSize: 233.5 MiB