Package: msd16s Version: 1.29.0 Command: /home/biocbuild/bbs-3.22-bioc/R/bin/R CMD build --keep-empty-dirs --no-resave-data msd16s StartedAt: 2025-07-08 11:30:50 -0400 (Tue, 08 Jul 2025) EndedAt: 2025-07-08 11:31:03 -0400 (Tue, 08 Jul 2025) EllapsedTime: 13.5 seconds RetCode: 0 Status: OK PackageFile: msd16s_1.29.0.tar.gz PackageFileSize: 1.808 MiB