Package: msdata Version: 0.49.0 Command: /home/biocbuild/bbs-3.22-bioc/R/bin/R CMD build --keep-empty-dirs --no-resave-data msdata StartedAt: 2025-07-10 11:32:03 -0400 (Thu, 10 Jul 2025) EndedAt: 2025-07-10 11:32:55 -0400 (Thu, 10 Jul 2025) EllapsedTime: 52.8 seconds RetCode: 0 Status: OK PackageFile: msdata_0.49.0.tar.gz PackageFileSize: 426.4 MiB