Package: msigdb Version: 1.17.0 Command: /home/biocbuild/bbs-3.22-bioc/R/bin/R CMD build --keep-empty-dirs --no-resave-data msigdb StartedAt: 2025-07-08 11:31:01 -0400 (Tue, 08 Jul 2025) EndedAt: 2025-07-08 11:38:54 -0400 (Tue, 08 Jul 2025) EllapsedTime: 472.9 seconds RetCode: 0 Status: OK PackageFile: msigdb_1.17.0.tar.gz PackageFileSize: 304.7 KiB