Package: msqc1 Version: 1.37.0 Command: /home/biocbuild/bbs-3.22-bioc/R/bin/R CMD build --keep-empty-dirs --no-resave-data msqc1 StartedAt: 2025-07-10 11:32:20 -0400 (Thu, 10 Jul 2025) EndedAt: 2025-07-10 11:33:09 -0400 (Thu, 10 Jul 2025) EllapsedTime: 49.4 seconds RetCode: 0 Status: OK PackageFile: msqc1_1.37.0.tar.gz PackageFileSize: 7.936 MiB