Package: msqc1 Version: 1.37.0 Command: /home/biocbuild/bbs-3.22-bioc/R/bin/R CMD INSTALL msqc1 StartedAt: 2025-07-10 10:55:54 -0400 (Thu, 10 Jul 2025) EndedAt: 2025-07-10 10:55:59 -0400 (Thu, 10 Jul 2025) EllapsedTime: 5.0 seconds RetCode: 0 Status: OK