Package: mtbls2 Version: 1.39.0 Command: /home/biocbuild/bbs-3.22-bioc/R/bin/R CMD build --keep-empty-dirs --no-resave-data mtbls2 StartedAt: 2025-07-08 11:31:40 -0400 (Tue, 08 Jul 2025) EndedAt: 2025-07-08 11:32:56 -0400 (Tue, 08 Jul 2025) EllapsedTime: 76.3 seconds RetCode: 0 Status: OK PackageFile: mtbls2_1.39.0.tar.gz PackageFileSize: 183.1 MiB