Package: mtbls2 Version: 1.39.0 Command: /home/biocbuild/bbs-3.22-bioc/R/bin/R CMD INSTALL mtbls2 StartedAt: 2025-07-08 10:55:33 -0400 (Tue, 08 Jul 2025) EndedAt: 2025-07-08 10:56:26 -0400 (Tue, 08 Jul 2025) EllapsedTime: 53.2 seconds RetCode: 0 Status: OK