Package: muSpaData Version: 1.1.0 Command: /home/biocbuild/bbs-3.22-bioc/R/bin/R CMD build --keep-empty-dirs --no-resave-data muSpaData StartedAt: 2025-07-10 11:33:09 -0400 (Thu, 10 Jul 2025) EndedAt: 2025-07-10 11:34:26 -0400 (Thu, 10 Jul 2025) EllapsedTime: 77.2 seconds RetCode: 0 Status: OK PackageFile: muSpaData_1.1.0.tar.gz PackageFileSize: 582.8 KiB