Package: muleaData Version: 1.7.0 Command: /home/biocbuild/bbs-3.23-bioc/R/bin/R CMD build --keep-empty-dirs --no-resave-data muleaData StartedAt: 2025-11-04 11:33:20 -0500 (Tue, 04 Nov 2025) EndedAt: 2025-11-04 11:33:30 -0500 (Tue, 04 Nov 2025) EllapsedTime: 10.7 seconds RetCode: 0 Status: OK PackageFile: muleaData_1.7.0.tar.gz PackageFileSize: 40.98 KiB