Package: muleaData Version: 1.5.0 Command: /home/biocbuild/bbs-3.22-bioc/R/bin/R CMD build --keep-empty-dirs --no-resave-data muleaData StartedAt: 2025-07-08 11:31:48 -0400 (Tue, 08 Jul 2025) EndedAt: 2025-07-08 11:31:58 -0400 (Tue, 08 Jul 2025) EllapsedTime: 10.4 seconds RetCode: 0 Status: OK PackageFile: muleaData_1.5.0.tar.gz PackageFileSize: 40.96 KiB