Package: multiWGCNAdata Version: 1.9.0 Command: /home/biocbuild/bbs-3.23-bioc/R/bin/R CMD build --keep-empty-dirs --no-resave-data multiWGCNAdata StartedAt: 2025-11-04 11:33:30 -0500 (Tue, 04 Nov 2025) EndedAt: 2025-11-04 11:33:53 -0500 (Tue, 04 Nov 2025) EllapsedTime: 23.2 seconds RetCode: 0 Status: OK PackageFile: multiWGCNAdata_1.9.0.tar.gz PackageFileSize: 221.2 KiB