Package: multiWGCNAdata Version: 1.7.0 Command: /home/biocbuild/bbs-3.22-bioc/R/bin/R CMD INSTALL multiWGCNAdata StartedAt: 2025-07-08 10:57:41 -0400 (Tue, 08 Jul 2025) EndedAt: 2025-07-08 10:57:50 -0400 (Tue, 08 Jul 2025) EllapsedTime: 8.8 seconds RetCode: 0 Status: OK