Package: muscData Version: 1.23.0 Command: /home/biocbuild/bbs-3.22-bioc/R/bin/R CMD build --keep-empty-dirs --no-resave-data muscData StartedAt: 2025-07-10 11:33:08 -0400 (Thu, 10 Jul 2025) EndedAt: 2025-07-10 11:34:03 -0400 (Thu, 10 Jul 2025) EllapsedTime: 55.5 seconds RetCode: 0 Status: OK PackageFile: muscData_1.23.0.tar.gz PackageFileSize: 230.2 KiB