Package: muscData Version: 1.23.0 Command: /home/biocbuild/bbs-3.22-bioc/R/bin/R CMD INSTALL muscData StartedAt: 2025-07-10 11:00:40 -0400 (Thu, 10 Jul 2025) EndedAt: 2025-07-10 11:01:11 -0400 (Thu, 10 Jul 2025) EllapsedTime: 30.8 seconds RetCode: 0 Status: OK