Package: mvoutData Version: 1.45.0 Command: /home/biocbuild/bbs-3.22-bioc/R/bin/R CMD build --keep-empty-dirs --no-resave-data mvoutData StartedAt: 2025-07-10 11:33:10 -0400 (Thu, 10 Jul 2025) EndedAt: 2025-07-10 11:33:14 -0400 (Thu, 10 Jul 2025) EllapsedTime: 4.0 seconds RetCode: 0 Status: OK PackageFile: mvoutData_1.45.0.tar.gz PackageFileSize: 14.19 MiB