Package: mvoutData Version: 1.45.0 Command: /home/biocbuild/bbs-3.22-bioc/R/bin/R CMD INSTALL mvoutData StartedAt: 2025-07-10 11:03:29 -0400 (Thu, 10 Jul 2025) EndedAt: 2025-07-10 11:04:08 -0400 (Thu, 10 Jul 2025) EllapsedTime: 39.1 seconds RetCode: 0 Status: OK