Package: nanotubes Version: 1.27.0 Command: /home/biocbuild/bbs-3.23-bioc/R/bin/R CMD build --keep-empty-dirs --no-resave-data nanotubes StartedAt: 2025-11-20 11:34:24 -0500 (Thu, 20 Nov 2025) EndedAt: 2025-11-20 11:34:47 -0500 (Thu, 20 Nov 2025) EllapsedTime: 22.8 seconds RetCode: 0 Status: OK PackageFile: nanotubes_1.27.0.tar.gz PackageFileSize: 117.6 MiB