Package: nanotubes Version: 1.25.0 Command: /home/biocbuild/bbs-3.22-bioc/R/bin/R CMD build --keep-empty-dirs --no-resave-data nanotubes StartedAt: 2025-07-10 11:33:28 -0400 (Thu, 10 Jul 2025) EndedAt: 2025-07-10 11:33:51 -0400 (Thu, 10 Jul 2025) EllapsedTime: 23.0 seconds RetCode: 0 Status: OK PackageFile: nanotubes_1.25.0.tar.gz PackageFileSize: 117.6 MiB