Package: nanotubes Version: 1.25.0 Command: /home/biocbuild/bbs-3.22-bioc/R/bin/R CMD INSTALL nanotubes StartedAt: 2025-07-10 10:55:13 -0400 (Thu, 10 Jul 2025) EndedAt: 2025-07-10 10:55:16 -0400 (Thu, 10 Jul 2025) EllapsedTime: 2.9 seconds RetCode: 0 Status: OK