Package: nullrangesData Version: 1.15.0 Command: /home/biocbuild/bbs-3.22-bioc/R/bin/R CMD build --keep-empty-dirs --no-resave-data nullrangesData StartedAt: 2025-07-08 11:33:09 -0400 (Tue, 08 Jul 2025) EndedAt: 2025-07-08 11:33:54 -0400 (Tue, 08 Jul 2025) EllapsedTime: 45.1 seconds RetCode: 0 Status: OK PackageFile: nullrangesData_1.15.0.tar.gz PackageFileSize: 4.148 MiB