Package: nullrangesData Version: 1.15.0 Command: /home/biocbuild/bbs-3.22-bioc/R/bin/R CMD INSTALL nullrangesData StartedAt: 2025-07-08 10:58:23 -0400 (Tue, 08 Jul 2025) EndedAt: 2025-07-08 10:58:52 -0400 (Tue, 08 Jul 2025) EllapsedTime: 29.3 seconds RetCode: 0 Status: OK