Package: oct4 Version: 1.27.0 Command: /home/biocbuild/bbs-3.23-bioc/R/bin/R CMD build --keep-empty-dirs --no-resave-data oct4 StartedAt: 2025-11-04 11:35:09 -0500 (Tue, 04 Nov 2025) EndedAt: 2025-11-04 11:35:24 -0500 (Tue, 04 Nov 2025) EllapsedTime: 15.0 seconds RetCode: 0 Status: OK PackageFile: oct4_1.27.0.tar.gz PackageFileSize: 192.9 MiB