Package: oct4 Version: 1.25.0 Command: /home/biocbuild/bbs-3.22-bioc/R/bin/R CMD INSTALL oct4 StartedAt: 2025-07-08 10:55:20 -0400 (Tue, 08 Jul 2025) EndedAt: 2025-07-08 10:55:22 -0400 (Tue, 08 Jul 2025) EllapsedTime: 1.8 seconds RetCode: 0 Status: OK