Package: octad.db Version: 1.13.0 Command: /home/biocbuild/bbs-3.23-bioc/R/bin/R CMD build --keep-empty-dirs --no-resave-data octad.db StartedAt: 2025-10-30 11:30:24 -0400 (Thu, 30 Oct 2025) EndedAt: 2025-10-30 11:30:48 -0400 (Thu, 30 Oct 2025) EllapsedTime: 23.5 seconds RetCode: 0 Status: OK PackageFile: octad.db_1.13.0.tar.gz PackageFileSize: 222.4 KiB