Package: octad.db Version: 1.11.0 Command: /home/biocbuild/bbs-3.22-bioc/R/bin/R CMD build --keep-empty-dirs --no-resave-data octad.db StartedAt: 2025-07-08 11:33:40 -0400 (Tue, 08 Jul 2025) EndedAt: 2025-07-08 11:34:05 -0400 (Tue, 08 Jul 2025) EllapsedTime: 25.3 seconds RetCode: 0 Status: OK PackageFile: octad.db_1.11.0.tar.gz PackageFileSize: 222.4 KiB