Package: octad.db Version: 1.11.0 Command: /home/biocbuild/bbs-3.22-bioc/R/bin/R CMD check --install=check:octad.db.install-out.txt --library=/home/biocbuild/bbs-3.22-bioc/R/site-library --timings octad.db_1.11.0.tar.gz StartedAt: 2025-07-17 12:50:28 -0400 (Thu, 17 Jul 2025) EndedAt: 2025-07-17 12:52:15 -0400 (Thu, 17 Jul 2025) EllapsedTime: 106.9 seconds RetCode: 0 Status: OK CheckDir: octad.db.Rcheck Warnings: 0