Package: optimalFlowData Version: 1.23.0 Command: /home/biocbuild/bbs-3.23-bioc/R/bin/R CMD build --keep-empty-dirs --no-resave-data optimalFlowData StartedAt: 2025-11-04 11:35:33 -0500 (Tue, 04 Nov 2025) EndedAt: 2025-11-04 11:36:23 -0500 (Tue, 04 Nov 2025) EllapsedTime: 50.5 seconds RetCode: 0 Status: OK PackageFile: optimalFlowData_1.23.0.tar.gz PackageFileSize: 75.86 MiB