Package: optimalFlowData Version: 1.21.0 Command: /home/biocbuild/bbs-3.22-bioc/R/bin/R CMD build --keep-empty-dirs --no-resave-data optimalFlowData StartedAt: 2025-07-08 11:34:03 -0400 (Tue, 08 Jul 2025) EndedAt: 2025-07-08 11:34:53 -0400 (Tue, 08 Jul 2025) EllapsedTime: 49.8 seconds RetCode: 0 Status: OK PackageFile: optimalFlowData_1.21.0.tar.gz PackageFileSize: 75.86 MiB