Package: optimalFlowData Version: 1.21.0 Command: /home/biocbuild/bbs-3.22-bioc/R/bin/R CMD check --install=check:optimalFlowData.install-out.txt --library=/home/biocbuild/bbs-3.22-bioc/R/site-library --timings optimalFlowData_1.21.0.tar.gz StartedAt: 2025-07-15 12:46:32 -0400 (Tue, 15 Jul 2025) EndedAt: 2025-07-15 12:47:34 -0400 (Tue, 15 Jul 2025) EllapsedTime: 61.2 seconds RetCode: 0 Status: WARNINGS CheckDir: optimalFlowData.Rcheck Warnings: 1