Package: optimalFlowData Version: 1.21.0 Command: /home/biocbuild/bbs-3.22-bioc/R/bin/R CMD INSTALL optimalFlowData StartedAt: 2025-07-08 10:55:36 -0400 (Tue, 08 Jul 2025) EndedAt: 2025-07-08 10:56:11 -0400 (Tue, 08 Jul 2025) EllapsedTime: 35.3 seconds RetCode: 0 Status: OK