Package: orthosData Version: 1.9.0 Command: /home/biocbuild/bbs-3.23-bioc/R/bin/R CMD INSTALL orthosData StartedAt: 2025-11-11 10:58:34 -0500 (Tue, 11 Nov 2025) EndedAt: 2025-11-11 10:59:02 -0500 (Tue, 11 Nov 2025) EllapsedTime: 28.2 seconds RetCode: 0 Status: OK