Package: orthosData Version: 1.7.0 Command: /home/biocbuild/bbs-3.22-bioc/R/bin/R CMD build --keep-empty-dirs --no-resave-data orthosData StartedAt: 2025-07-08 11:34:05 -0400 (Tue, 08 Jul 2025) EndedAt: 2025-07-08 11:34:44 -0400 (Tue, 08 Jul 2025) EllapsedTime: 38.9 seconds RetCode: 0 Status: OK PackageFile: orthosData_1.7.0.tar.gz PackageFileSize: 311.9 KiB