Package: orthosData Version: 1.7.0 Command: /home/biocbuild/bbs-3.22-bioc/R/bin/R CMD INSTALL orthosData StartedAt: 2025-07-08 10:58:39 -0400 (Tue, 08 Jul 2025) EndedAt: 2025-07-08 10:59:07 -0400 (Tue, 08 Jul 2025) EllapsedTime: 27.9 seconds RetCode: 0 Status: OK