Package: pRolocdata Version: 1.47.0 Command: /home/biocbuild/bbs-3.22-bioc/R/bin/R CMD INSTALL pRolocdata StartedAt: 2025-07-10 11:00:21 -0400 (Thu, 10 Jul 2025) EndedAt: 2025-07-10 11:01:26 -0400 (Thu, 10 Jul 2025) EllapsedTime: 65.0 seconds RetCode: 0 Status: OK