Package: pasilla Version: 1.37.0 Command: /home/biocbuild/bbs-3.22-bioc/R/bin/R CMD build --keep-empty-dirs --no-resave-data pasilla StartedAt: 2025-07-08 11:34:07 -0400 (Tue, 08 Jul 2025) EndedAt: 2025-07-08 11:35:03 -0400 (Tue, 08 Jul 2025) EllapsedTime: 56.5 seconds RetCode: 0 Status: OK PackageFile: pasilla_1.37.0.tar.gz PackageFileSize: 3.151 MiB