Package: pasillaBamSubset Version: 0.49.0 Command: /home/biocbuild/bbs-3.23-bioc/R/bin/R CMD build --keep-empty-dirs --no-resave-data pasillaBamSubset StartedAt: 2025-11-06 11:34:40 -0500 (Thu, 06 Nov 2025) EndedAt: 2025-11-06 11:34:43 -0500 (Thu, 06 Nov 2025) EllapsedTime: 2.3 seconds RetCode: 0 Status: OK PackageFile: pasillaBamSubset_0.49.0.tar.gz PackageFileSize: 15.01 MiB