Package: pasillaBamSubset Version: 0.47.0 Command: /home/biocbuild/bbs-3.22-bioc/R/bin/R CMD build --keep-empty-dirs --no-resave-data pasillaBamSubset StartedAt: 2025-07-08 11:34:09 -0400 (Tue, 08 Jul 2025) EndedAt: 2025-07-08 11:34:11 -0400 (Tue, 08 Jul 2025) EllapsedTime: 2.3 seconds RetCode: 0 Status: OK PackageFile: pasillaBamSubset_0.47.0.tar.gz PackageFileSize: 15.01 MiB