Package: pd.atdschip.tiling Version: 0.49.0 Command: /home/biocbuild/bbs-3.23-bioc/R/bin/R CMD INSTALL pd.atdschip.tiling StartedAt: 2025-11-20 11:00:05 -0500 (Thu, 20 Nov 2025) EndedAt: 2025-11-20 11:00:29 -0500 (Thu, 20 Nov 2025) EllapsedTime: 23.6 seconds RetCode: 0 Status: OK