Package: pd.atdschip.tiling Version: 0.47.0 Command: /home/biocbuild/bbs-3.22-bioc/R/bin/R CMD INSTALL pd.atdschip.tiling StartedAt: 2025-07-10 11:00:06 -0400 (Thu, 10 Jul 2025) EndedAt: 2025-07-10 11:00:37 -0400 (Thu, 10 Jul 2025) EllapsedTime: 30.6 seconds RetCode: 0 Status: OK