Package: pepDat Version: 1.29.0 Command: /home/biocbuild/bbs-3.22-bioc/R/bin/R CMD build --keep-empty-dirs --no-resave-data pepDat StartedAt: 2025-07-08 11:34:44 -0400 (Tue, 08 Jul 2025) EndedAt: 2025-07-08 11:35:00 -0400 (Tue, 08 Jul 2025) EllapsedTime: 15.0 seconds RetCode: 0 Status: OK PackageFile: pepDat_1.29.0.tar.gz PackageFileSize: 2.66 MiB