Package: pepDat Version: 1.29.0 Command: /home/biocbuild/bbs-3.22-bioc/R/bin/R CMD INSTALL pepDat StartedAt: 2025-07-08 11:00:14 -0400 (Tue, 08 Jul 2025) EndedAt: 2025-07-08 11:00:22 -0400 (Tue, 08 Jul 2025) EllapsedTime: 7.5 seconds RetCode: 0 Status: OK