Package: plotgardenerData Version: 1.15.0 Command: /home/biocbuild/bbs-3.22-bioc/R/bin/R CMD INSTALL plotgardenerData StartedAt: 2025-07-08 10:55:15 -0400 (Tue, 08 Jul 2025) EndedAt: 2025-07-08 10:55:18 -0400 (Tue, 08 Jul 2025) EllapsedTime: 2.8 seconds RetCode: 0 Status: OK