Package: prebsdata Version: 1.47.0 Command: /home/biocbuild/bbs-3.23-bioc/R/bin/R CMD build --keep-empty-dirs --no-resave-data prebsdata StartedAt: 2025-11-13 11:36:28 -0500 (Thu, 13 Nov 2025) EndedAt: 2025-11-13 11:36:52 -0500 (Thu, 13 Nov 2025) EllapsedTime: 24.2 seconds RetCode: 0 Status: OK PackageFile: prebsdata_1.47.0.tar.gz PackageFileSize: 23.54 MiB