Package: prebsdata Version: 1.47.0 Command: /home/biocbuild/bbs-3.23-bioc/R/bin/R CMD INSTALL prebsdata StartedAt: 2025-11-13 10:55:29 -0500 (Thu, 13 Nov 2025) EndedAt: 2025-11-13 10:55:30 -0500 (Thu, 13 Nov 2025) EllapsedTime: 1.2 seconds RetCode: 0 Status: OK