Package: preciseTADhub Version: 1.19.0 Command: /home/biocbuild/bbs-3.23-bioc/R/bin/R CMD build --keep-empty-dirs --no-resave-data preciseTADhub StartedAt: 2025-11-04 11:36:39 -0500 (Tue, 04 Nov 2025) EndedAt: 2025-11-04 11:38:17 -0500 (Tue, 04 Nov 2025) EllapsedTime: 98.2 seconds RetCode: 0 Status: OK PackageFile: preciseTADhub_1.19.0.tar.gz PackageFileSize: 228.6 KiB