Package: preciseTADhub Version: 1.17.0 Command: /home/biocbuild/bbs-3.22-bioc/R/bin/R CMD build --keep-empty-dirs --no-resave-data preciseTADhub StartedAt: 2025-07-08 11:35:03 -0400 (Tue, 08 Jul 2025) EndedAt: 2025-07-08 11:36:35 -0400 (Tue, 08 Jul 2025) EllapsedTime: 91.8 seconds RetCode: 0 Status: OK PackageFile: preciseTADhub_1.17.0.tar.gz PackageFileSize: 228.5 KiB