Package: prostateCancerCamcap Version: 1.39.0 Command: /home/biocbuild/bbs-3.23-bioc/R/bin/R CMD build --keep-empty-dirs --no-resave-data prostateCancerCamcap StartedAt: 2025-11-06 11:35:55 -0500 (Thu, 06 Nov 2025) EndedAt: 2025-11-06 11:36:25 -0500 (Thu, 06 Nov 2025) EllapsedTime: 30.0 seconds RetCode: 0 Status: OK PackageFile: prostateCancerCamcap_1.39.0.tar.gz PackageFileSize: 46.88 MiB