Package: prostateCancerCamcap Version: 1.37.0 Command: /home/biocbuild/bbs-3.22-bioc/R/bin/R CMD INSTALL prostateCancerCamcap StartedAt: 2025-07-08 10:56:10 -0400 (Tue, 08 Jul 2025) EndedAt: 2025-07-08 10:56:26 -0400 (Tue, 08 Jul 2025) EllapsedTime: 16.1 seconds RetCode: 0 Status: OK