Package: prostateCancerGrasso Version: 1.37.0 Command: /home/biocbuild/bbs-3.22-bioc/R/bin/R CMD build --keep-empty-dirs --no-resave-data prostateCancerGrasso StartedAt: 2025-07-10 11:36:38 -0400 (Thu, 10 Jul 2025) EndedAt: 2025-07-10 11:36:50 -0400 (Thu, 10 Jul 2025) EllapsedTime: 12.0 seconds RetCode: 0 Status: OK PackageFile: prostateCancerGrasso_1.37.0.tar.gz PackageFileSize: 25.25 MiB